BEGIN:VCALENDAR
VERSION:2.0
PRODID:-//ChamberMaster//Event Calendar 2.0//EN
METHOD:PUBLISH
X-PUBLISHED-TTL:P3D
REFRESH-INTERVAL:P3D
CALSCALE:GREGORIAN
BEGIN:VEVENT
DTSTART:20241008T000000Z
DTEND:20241008T010000Z
X-MICROSOFT-CDO-ALLDAYEVENT:FALSE
SUMMARY:Youth Support Group
DESCRIPTION:A youth focused support group session lead by local positive community mental health and substance abuse peer counselors. This is a safe space to discuss daily thoughts\, past traumas\, connect with resources or other youth who relate to you.
X-ALT-DESC;FMTTYPE=text/html:A youth focused support group session lead by local positive community mental health and substance abuse peer counselors. This is a safe space to discuss daily thoughts\, past traumas\, connect with resources or other youth who relate to you.
LOCATION:Shelton Youth Connection 123 S 2nd St Shelton\, WA 98584
UID:e.71.68059
SEQUENCE:3
DTSTAMP:20260421T053451Z
URL:https://chamber.masonchamber.com/events/details/youth-support-group-10-07-2024-68059
END:VEVENT

END:VCALENDAR
