BEGIN:VCALENDAR
VERSION:2.0
PRODID:-//ChamberMaster//Event Calendar 2.0//EN
METHOD:PUBLISH
X-PUBLISHED-TTL:P3D
REFRESH-INTERVAL:P3D
CALSCALE:GREGORIAN
BEGIN:VEVENT
DTSTART:20200421T013000Z
DTEND:20200421T040000Z
X-MICROSOFT-CDO-ALLDAYEVENT:FALSE
SUMMARY:Variety Tour Concert - CANCELED
DESCRIPTION:Gateway Christian Fellowship invites you to enjoy a night of fun and fantastic music. Featured artists include Seventh Day Slumber\, Stars Go Dim\, and Blake Whiteley.
X-ALT-DESC;FMTTYPE=text/html:Gateway Christian Fellowship invites you to enjoy a night of fun and fantastic music. Featured artists include Seventh Day Slumber\, Stars Go Dim\, and Blake Whiteley.
LOCATION:Shelton High School Performing Arts Center 3737 N Shelton Springs Rd Shelton\, WA 98584
UID:e.71.54033
SEQUENCE:3
DTSTAMP:20260425T114230Z
URL:https://chamber.masonchamber.com/events/details/variety-tour-concert-canceled-54033
END:VEVENT

END:VCALENDAR
