BEGIN:VCALENDAR
VERSION:2.0
PRODID:-//ChamberMaster//Event Calendar 2.0//EN
METHOD:PUBLISH
X-PUBLISHED-TTL:P3D
REFRESH-INTERVAL:P3D
CALSCALE:GREGORIAN
BEGIN:VEVENT
DTSTART:20211031T230000Z
DTEND:20211101T010000Z
X-MICROSOFT-CDO-ALLDAYEVENT:FALSE
SUMMARY:Union Community Drive-Thru Trick-or-Treating
DESCRIPTION:Again this year\, the Union community will host a Drive-Thru Halloween Trick-or-Treating event featuring local businesses.\n\n\n\nJoin the event on Facebook: https://www.facebook.com/events/522001145514956/
X-ALT-DESC;FMTTYPE=text/html:Again this year\, the Union community will host a Drive-Thru Halloween Trick-or-Treating event featuring local businesses.<br />\n<br />\nJoin the event on Facebook:&nbsp\;https://www.facebook.com/events/522001145514956/
LOCATION:Union\, WA 98592
UID:e.71.61606
SEQUENCE:3
DTSTAMP:20260424T181731Z
URL:https://chamber.masonchamber.com/events/details/union-community-drive-thru-trick-or-treating-61606
END:VEVENT

END:VCALENDAR
