BEGIN:VCALENDAR
VERSION:2.0
PRODID:-//ChamberMaster//Event Calendar 2.0//EN
METHOD:PUBLISH
X-PUBLISHED-TTL:P3D
REFRESH-INTERVAL:P3D
CALSCALE:GREGORIAN
BEGIN:VEVENT
DTSTART:20251024T230000Z
DTEND:20251025T020000Z
X-MICROSOFT-CDO-ALLDAYEVENT:FALSE
SUMMARY:Trunk-or-Treat & Dance Party at Shelton Athletic Club
DESCRIPTION:Get ready for a Spooktacular evening of fun at the Shelton Athletic Club! Enjoy an evening of trunk-or-treating\, candy\, games\, and music spun by DJ SmyleZ. This family friendly event is open to children off all ages.
X-ALT-DESC;FMTTYPE=text/html:Get ready for a Spooktacular evening of fun at the Shelton Athletic Club! Enjoy an evening of trunk-or-treating\, candy\, games\, and music spun by DJ SmyleZ.&nbsp\;This family friendly event is open to children off all ages.&nbsp\;
LOCATION:Shelton Athletic Club 707 S 1st St Shelton\, WA 98584
UID:e.71.71804
SEQUENCE:3
DTSTAMP:20260424T134033Z
URL:https://chamber.masonchamber.com/events/details/trunk-or-treat-dance-party-at-shelton-athletic-club-71804
END:VEVENT

END:VCALENDAR
