BEGIN:VCALENDAR
VERSION:2.0
PRODID:-//ChamberMaster//Event Calendar 2.0//EN
METHOD:PUBLISH
X-PUBLISHED-TTL:P3D
REFRESH-INTERVAL:P3D
CALSCALE:GREGORIAN
BEGIN:VEVENT
DTSTART:20211031T230000Z
DTEND:20211101T010000Z
X-MICROSOFT-CDO-ALLDAYEVENT:FALSE
SUMMARY:Trunk or Treat at New Community Church of Union
DESCRIPTION:Get those costumes on to show off. Bring the family and visit us in the parking lot of the NCCU Worship Center. Park and walk around Halloween themed cars and collect candy!
X-ALT-DESC;FMTTYPE=text/html:<span style="color: rgb(5\, 5\, 5)\; font-family: &quot\;Segoe UI Historic&quot\;\, &quot\;Segoe UI&quot\;\, Helvetica\, Arial\, sans-serif\; font-size: 15px\; white-space: pre-wrap\;">Get those costumes on to show off. Bring the family and visit us in the parking lot of the NCCU Worship Center. Park and walk around Halloween themed cars and collect candy! </span>
LOCATION:New Community Church 951 E Dalby Rd Union\, WA
UID:e.71.61600
SEQUENCE:3
DTSTAMP:20260424T182048Z
URL:https://chamber.masonchamber.com/events/details/trunk-or-treat-at-new-community-church-of-union-61600
END:VEVENT

END:VCALENDAR
