BEGIN:VCALENDAR
VERSION:2.0
PRODID:-//ChamberMaster//Event Calendar 2.0//EN
METHOD:PUBLISH
X-PUBLISHED-TTL:P3D
REFRESH-INTERVAL:P3D
CALSCALE:GREGORIAN
BEGIN:VEVENT
DTSTART:20251024T210000Z
DTEND:20251024T230000Z
X-MICROSOFT-CDO-ALLDAYEVENT:FALSE
SUMMARY:Trunk or Treat at Maple Glen Assisted Living
DESCRIPTION:Join Maple Glen Assisted Living for their walk-through Truck or Treat! They hope to have even more trunks this year with costumes and decorations galore! Hot drinks will be available. \n\n\n\nNote: \n\nThis event is happening during Mason Health's Trunk or Treat event. Make sure you stop by both!
X-ALT-DESC;FMTTYPE=text/html:Join Maple Glen Assisted Living for their walk-through Truck or Treat! They hope to have even more trunks this year with costumes and decorations galore! Hot drinks will be available.&nbsp\;<br />\n<br />\nNote:&nbsp\;<br />\nThis event is happening during Mason Health&#39\;s Trunk or Treat event. Make sure you stop by both!&nbsp\;
LOCATION:Maple Glen Assisted Living 1700 N 13th Loop Rd Shelton\, WA 98584
UID:e.71.71788
SEQUENCE:3
DTSTAMP:20260424T133816Z
URL:https://chamber.masonchamber.com/events/details/trunk-or-treat-at-maple-glen-assisted-living-71788
END:VEVENT

END:VCALENDAR
