BEGIN:VCALENDAR
VERSION:2.0
PRODID:-//ChamberMaster//Event Calendar 2.0//EN
METHOD:PUBLISH
X-PUBLISHED-TTL:P3D
REFRESH-INTERVAL:P3D
CALSCALE:GREGORIAN
BEGIN:VEVENT
DTSTART:20251025T170000Z
DTEND:20251025T220000Z
X-MICROSOFT-CDO-ALLDAYEVENT:FALSE
SUMMARY:Trick-or-Treat at the Shelton Farmers Market
DESCRIPTION:Join the Shelton Farmers Market for their last market of the season on Saturday\, October 25. This is also the Halloween Market\, and shoppers are invited to bring their families dressed in costume for trick-or-treating. \n\nCostumes are encouraged but not required. \n\n\n\nThe Shelton Farmers Market invites shoppers to explore a variety of fresh\, local\, and seasonal goods each week. From produce and flowers to baked goods and handcrafted items\, the market offers an opportunity to support small growers and makers from Mason County and neighboring areas.
X-ALT-DESC;FMTTYPE=text/html:<p data-end="396" data-start="110">Join the Shelton Farmers Market for their last market of the season on Saturday\, October 25. This is also the Halloween Market\, and shoppers are invited to bring their families dressed in costume for trick-or-treating.&nbsp\;<br />\nCostumes are encouraged but not required.&nbsp\;<br />\n<br />\nThe Shelton Farmers Market invites shoppers to explore a variety of fresh\, local\, and seasonal goods each week. From produce and flowers to baked goods and handcrafted items\, the market offers an opportunity to support small growers and makers from Mason County and neighboring areas.</p>\n
LOCATION:Civic Center Parking Lot 425 Cota St\, Shelton\, WA
UID:e.71.71513
SEQUENCE:3
DTSTAMP:20260424T134057Z
URL:https://chamber.masonchamber.com/events/details/trick-or-treat-at-the-shelton-farmers-market-71513
END:VEVENT

END:VCALENDAR
