BEGIN:VCALENDAR
VERSION:2.0
PRODID:-//ChamberMaster//Event Calendar 2.0//EN
METHOD:PUBLISH
X-PUBLISHED-TTL:P3D
REFRESH-INTERVAL:P3D
CALSCALE:GREGORIAN
BEGIN:VEVENT
DTSTART:20251031T000000Z
DTEND:20251031T030000Z
X-MICROSOFT-CDO-ALLDAYEVENT:FALSE
SUMMARY:Treats at the Creek
DESCRIPTION:Join Little Creek Casino in the Skookum Creek Event Center for family-friendly Halloween fun! Bring the kids to trick-or-treat and collect candy from their Halloween decorated booths.\n\n\n\nThis event is safe\, festive\, and fun for all ages! Costumes encouraged.
X-ALT-DESC;FMTTYPE=text/html:Join Little Creek Casino in the Skookum Creek Event Center for family-friendly Halloween fun! Bring the kids to trick-or-treat and collect candy from their Halloween decorated booths.<br />\n<br />\nThis event is safe\, festive\, and fun for all ages! Costumes encouraged.&nbsp\;
LOCATION:Little Creek Casino Resort Skookum Creek Event Center 91 W State Route 108 Shelton\, WA 98584
UID:e.71.72216
SEQUENCE:3
DTSTAMP:20260424T133932Z
URL:https://chamber.masonchamber.com/events/details/treats-at-the-creek-72216
END:VEVENT

END:VCALENDAR
