BEGIN:VCALENDAR
VERSION:2.0
PRODID:-//ChamberMaster//Event Calendar 2.0//EN
METHOD:PUBLISH
X-PUBLISHED-TTL:P3D
REFRESH-INTERVAL:P3D
CALSCALE:GREGORIAN
BEGIN:VEVENT
DTSTART:20260912T183000Z
DTEND:20260912T220000Z
X-MICROSOFT-CDO-ALLDAYEVENT:FALSE
SUMMARY:The Youth Connection- Mimosa Celebrate Brunch
DESCRIPTION:Celebrate Today. Changes lives Forever. Brunch
X-ALT-DESC;FMTTYPE=text/html:Celebrate Today. Changes lives Forever. Brunch
LOCATION:
UID:e.71.73456
SEQUENCE:3
DTSTAMP:20260423T093031Z
URL:https://chamber.masonchamber.com/events/details/the-youth-connection-mimosa-celebrate-brunch-73456
END:VEVENT

END:VCALENDAR
