BEGIN:VCALENDAR
VERSION:2.0
PRODID:-//ChamberMaster//Event Calendar 2.0//EN
METHOD:PUBLISH
X-PUBLISHED-TTL:P3D
REFRESH-INTERVAL:P3D
CALSCALE:GREGORIAN
BEGIN:VEVENT
DTSTART:20260426T010000Z
DTEND:20260426T023000Z
X-MICROSOFT-CDO-ALLDAYEVENT:FALSE
SUMMARY:SPRING INTO WELLNESS WORKSHOP AT ALDERBROOK RESORT AND SPA
DESCRIPTION:Welcome the Spring season with this all levels yoga class that includes a 60 minute yoga class\, aromatherapy and guided meditation with a Spring theme designed to inspire!\n\n\n\nAfter the yoga session\, we will gather together to make a Spring herbal take-home tea with locally harvested native plants including stinging nettle! The tea we are making together will be served throughout the class to aid our body\, mind and spirit with strength\, power-packed vitamins and detoxification as we prepare for the Spring season together in wellness!\n\n\n\nDate: Saturday\, April 25th\, 2026\n\n\n\nTime: 6 pm to 7:30 pm\n\n\n\nCost: $65/person (includes take-home herbal products)\n\n\n\nRegistration: Please register at http://www.joonbugyoga.com or send a Venmo payment to @joonbugyoga or @travelingyogini. If you would like to pay in person\, please email joonbugyoga@gmail.com to save your space and bring cash to the class.
X-ALT-DESC;FMTTYPE=text/html:<span style="font-size: 10.5pt\; font-family: &quot\;Segoe UI&quot\;\, sans-serif\;">Welcome the Spring season with this all levels yoga class that includes a 60 minute yoga class\, aromatherapy and guided meditation with a Spring theme designed to inspire!<br />\n<br />\nAfter the yoga session\, we will gather together to make a Spring herbal take-home tea with locally harvested native plants including stinging nettle! The tea we are making together will be served throughout the class to aid our body\, mind and spirit with strength\, power-packed vitamins and detoxification as we prepare for the Spring season together in wellness!<br />\n<br />\nDate: Saturday\, April 25th\, 2026<br />\n<br />\nTime: 6 pm to 7:30 pm<br />\n<br />\nCost: $65/person (includes take-home herbal products)<br />\n<br />\nRegistration: Please register at <a href="http://www.joonbugyoga.com"><span style="color:#E27730">http://www.joonbugyoga.com</span></a> or send a Venmo payment to @joonbugyoga or @travelingyogini. If you would like to pay in person\, please email <a href="mailto:joonbugyoga@gmail.com"><span style="color:#E27730">joonbugyoga@gmail.com</span></a> to save your space and bring cash to the class.<br />\n<br />\n<!--[if !supportLineBreakNewLine]--><br />\n<!--[endif]--></span>
LOCATION:Alderbrook Resort and Spa 10 E. Alderbrook Dr. Union\, WA 98592.
UID:e.71.72437
SEQUENCE:3
DTSTAMP:20260424T094326Z
URL:https://chamber.masonchamber.com/events/details/spring-into-wellness-workshop-at-alderbrook-resort-and-spa-72437
END:VEVENT

END:VCALENDAR
