BEGIN:VCALENDAR
VERSION:2.0
PRODID:-//ChamberMaster//Event Calendar 2.0//EN
METHOD:PUBLISH
X-PUBLISHED-TTL:P3D
REFRESH-INTERVAL:P3D
CALSCALE:GREGORIAN
BEGIN:VEVENT
DTSTART:20250205T180000Z
DTEND:20250205T210000Z
X-MICROSOFT-CDO-ALLDAYEVENT:FALSE
SUMMARY:Sober Art Society at Graffiti Creative Arts Center
DESCRIPTION:Are you in recovery for addiction or do you know someone who is?\n\nThe Sober Art Society is a weekly group that comes together to socialize and support each other in recovery journeys. Meetings are free to those in recovery programs(AA\,NA\, IOP\, OP\, counseling\, etc). Patrons are welcome to make a donation when they can but it is not required for them to attend.\n\n\n\nJoin for an art project followed by a lunch together. \n\n\n\nThe Sober Art Society is a safe space and is treated like any anonymous group. They do not share photos or talk about who comes to the group.\n\nIf you would like to donate to The Sober Art Society please contact Nicole Frazier of Graffiti Creative Arts Center at mypaintedheart@yahoo.com or 360-462-6453.
X-ALT-DESC;FMTTYPE=text/html:<div class="xdj266r x11i5rnm xat24cr x1mh8g0r x1vvkbs" style="margin: 0px\; overflow-wrap: break-word\; font-family: &quot\;Segoe UI Historic&quot\;\, &quot\;Segoe UI&quot\;\, Helvetica\, Arial\, sans-serif\; color: rgb(5\, 5\, 5)\; font-size: 15px\; background-color: rgb(255\, 255\, 255)\;">Are you in recovery for addiction or do you know someone who is?</div>\n\n<div class="x11i5rnm xat24cr x1mh8g0r x1vvkbs xtlvy1s" style="margin: 0.5em 0px 0px\; overflow-wrap: break-word\; font-family: &quot\;Segoe UI Historic&quot\;\, &quot\;Segoe UI&quot\;\, Helvetica\, Arial\, sans-serif\; color: rgb(5\, 5\, 5)\; font-size: 15px\; background-color: rgb(255\, 255\, 255)\;">The Sober Art Society is a weekly group that comes together to socialize and support each other in&nbsp\;recovery journeys.&nbsp\;Meetings are free to those in recovery programs(AA\,NA\, IOP\, OP\, counseling\, etc). Patrons are welcome to make a donation when they can but it is not required for them to attend.<br />\n<br />\nJoin for an art project followed by a lunch together.&nbsp\;<br />\n<br />\n<strong>The Sober Art Society is a safe space and is&nbsp\;treated like any anonymous group. They do not share photos or talk about who comes to the group.</strong></div>\n\n<p class="x11i5rnm xat24cr x1mh8g0r x1vvkbs xtlvy1s" style="margin: 0.5em 0px 0px\; overflow-wrap: break-word\; font-family: &quot\;Segoe UI Historic&quot\;\, &quot\;Segoe UI&quot\;\, Helvetica\, Arial\, sans-serif\; color: rgb(5\, 5\, 5)\; font-size: 15px\; background-color: rgb(255\, 255\, 255)\;">If you would like to donate to The Sober Art Society please contact Nicole Frazier of Graffiti Creative Arts Center at&nbsp\;<span style="color: rgb(5\, 5\, 5)\; font-family: &quot\;Segoe UI Historic&quot\;\, &quot\;Segoe UI&quot\;\, Helvetica\, Arial\, sans-serif\; font-size: 15px\; background-color: rgb(255\, 255\, 255)\;">mypaintedheart@yahoo.com or 360-462-6453.</span></p>\n
LOCATION:215 W Railroad Ave Shelton\, WA 98584
UID:e.71.70809
SEQUENCE:3
DTSTAMP:20260423T041837Z
URL:https://chamber.masonchamber.com/events/details/sober-art-society-at-graffiti-02-05-2025-70809
END:VEVENT

END:VCALENDAR
