BEGIN:VCALENDAR
VERSION:2.0
PRODID:-//ChamberMaster//Event Calendar 2.0//EN
METHOD:PUBLISH
X-PUBLISHED-TTL:P3D
REFRESH-INTERVAL:P3D
CALSCALE:GREGORIAN
BEGIN:VEVENT
DTSTART:20211101T000000Z
DTEND:20211101T020000Z
X-MICROSOFT-CDO-ALLDAYEVENT:FALSE
SUMMARY:Skyline Drive-In Trunk or Treat
DESCRIPTION:Before the night's movies\, Skyline Drive-On is hosting a Trunk or Treat. In addition to the candy and fun\, prizes will be awarded for costumes in a variety of age categories.\n\n\n\nBusinesses\, churches\, and other organizations may sign-up to participate and a prize will be awarded to first place.
X-ALT-DESC;FMTTYPE=text/html:Before the night&#39\;s movies\, Skyline Drive-On is hosting a Trunk or Treat. In addition to the candy and fun\, prizes will be awarded for costumes in a variety of age categories.<br />\n<br />\nBusinesses\, churches\, and other organizations may sign-up to participate and a prize will be awarded to first place.
LOCATION:Skyline Drive-In 182 SE Brewer Rd Shelton\, WA 98584
UID:e.71.61628
SEQUENCE:3
DTSTAMP:20260424T181813Z
URL:https://chamber.masonchamber.com/events/details/skyline-drive-in-trunk-or-treat-61628
END:VEVENT

END:VCALENDAR
