BEGIN:VCALENDAR
VERSION:2.0
PRODID:-//ChamberMaster//Event Calendar 2.0//EN
METHOD:PUBLISH
X-PUBLISHED-TTL:P3D
REFRESH-INTERVAL:P3D
CALSCALE:GREGORIAN
BEGIN:VEVENT
DTSTART:20211201T020000Z
DTEND:20211201T040000Z
X-MICROSOFT-CDO-ALLDAYEVENT:FALSE
SUMMARY:Shelton School Board Meetings
DESCRIPTION:Board meetings are streamed live via YouTube by MasonWebTV. Recordings of the video will be available on MasonWeb TV's website in their archive section. Please visit www.masonwebtv.com to watch the live stream.\n\nCommunity Comments   As part of the regular school board meeting\, the board invites community members to make public comments in person and/or by phone as conditions allow by calling 1-253-215-8782 and entering meeting ID # 883 3285 7364. Our public comment procedure allows each person 3 minutes to speak and comments will be heard during the Community Comment period as listed on the agenda. In accordance with the Open Public Meetings Act\, the board is not allowed to discuss items not on the agenda but may direct the superintendent to follow up on issues that arise during public comment. Please be mindful of how you present your testimony as the board will not allow complaints against an individual staff member or student in open session (unless that individual has requested an open public hearing). Please follow the public comment procedure by stating your name when recognized by the board chair
X-ALT-DESC;FMTTYPE=text/html:<div class="kvgmc6g5 cxmmr5t8 oygrvhab hcukyx3x c1et5uql" style="overflow-wrap: break-word\; margin: 0px\; font-family: &quot\;Segoe UI Historic&quot\;\, &quot\;Segoe UI&quot\;\, Helvetica\, Arial\, sans-serif\; color: rgb(5\, 5\, 5)\; font-size: 15px\;">Board meetings are streamed live via YouTube by MasonWebTV. Recordings of the video will be available on MasonWeb TV&rsquo\;s website in their archive section. Please visit&nbsp\;<a class="oajrlxb2 g5ia77u1 qu0x051f esr5mh6w e9989ue4 r7d6kgcz rq0escxv nhd2j8a9 nc684nl6 p7hjln8o kvgmc6g5 cxmmr5t8 oygrvhab hcukyx3x jb3vyjys rz4wbd8a qt6c0cv9 a8nywdso i1ao9s8h esuyzwwr f1sip0of lzcic4wl py34i1dx gpro0wi8" href="http://www.masonwebtv.com/?fbclid=IwAR1py7BMERS_vtTU4cR1QQf94iesWqO-5xxLpr1FJrs58qg13sMR4pzlxFs" rel="nofollow noopener" role="link" style="color: var(--blue-link)\; cursor: pointer\; text-decoration-line: none\; outline: none\; list-style: none\; border-width: 0px\; border-style: initial\; border-color: initial\; padding: 0px\; margin: 0px\; touch-action: manipulation\; background-color: transparent\; text-align: inherit\; display: inline\; -webkit-tap-highlight-color: transparent\; box-sizing: border-box\; font-family: inherit\;" tabindex="0" target="_blank">www.masonwebtv.com</a>&nbsp\;to watch the live stream.</div>\n\n<div class="o9v6fnle cxmmr5t8 oygrvhab hcukyx3x c1et5uql" style="overflow-wrap: break-word\; margin: 0.5em 0px 0px\; font-family: &quot\;Segoe UI Historic&quot\;\, &quot\;Segoe UI&quot\;\, Helvetica\, Arial\, sans-serif\; color: rgb(5\, 5\, 5)\; font-size: 15px\;">Community Comments &ndash\; As part of the regular school board meeting\, the board invites community members to make public comments in person and/or by phone as conditions allow by calling 1-253-215-8782 and entering meeting ID # 883 3285 7364. Our public comment procedure allows each person 3 minutes to speak and comments will be heard during the Community Comment period as listed on the agenda. In accordance with the Open Public Meetings Act\, the board is not allowed to discuss items not on the agenda but may direct the superintendent to follow up on issues that arise during public comment. Please be mindful of how you present your testimony as the board will not allow complaints against an individual staff member or student in open session (unless that individual has requested an open public hearing). Please follow the public comment procedure by stating your name when recognized by the board chair</div>\n
LOCATION:Online Via Zoom
UID:e.71.61418
SEQUENCE:3
DTSTAMP:20260424T185402Z
URL:https://chamber.masonchamber.com/events/details/shelton-school-board-meetings-11-30-2021-61418
END:VEVENT

END:VCALENDAR
