BEGIN:VCALENDAR
VERSION:2.0
PRODID:-//ChamberMaster//Event Calendar 2.0//EN
METHOD:PUBLISH
X-PUBLISHED-TTL:P3D
REFRESH-INTERVAL:P3D
CALSCALE:GREGORIAN
BEGIN:VEVENT
DTSTART:20241026T170000Z
DTEND:20241026T220000Z
X-MICROSOFT-CDO-ALLDAYEVENT:FALSE
SUMMARY:Shelton Farmers Market
DESCRIPTION:Located in the heart of Downtown Shelton. There is farm fresh produce & eggs\, locally prepared food\, artisan crafts\, livestock\, community outreach\, live music from local artists. Everything is locally grown and crafted with love.\n\n\n\nFinal Market Day of the Season!\n\n\n\nThe Shelton Farmers Market invites you and your little ghouls or goblins to join then for a spook-tacular day at the market! It's the last day of the season!\n\n\n\nTrick or Treat: Bring your kids to trick or treat at the vendors costumes encouraged!\n\nSupport Local: Chat with your favorite local vendors about where you can find their amazing products during the off-season.
X-ALT-DESC;FMTTYPE=text/html:Located in the heart of Downtown Shelton. There is farm fresh produce &amp\; eggs\, locally prepared food\, artisan crafts\, livestock\, community outreach\, live music from local artists. Everything is locally grown and crafted with love.<br />\n<br />\nFinal Market Day of the Season!<br />\n<br />\nThe Shelton Farmers Market invites you and your little ghouls or goblins to join then for a spook-tacular day at the market! It&#39\;s the last day of the season!<br />\n<br />\nTrick or Treat: Bring your kids to trick or treat at the vendors&mdash\;costumes encouraged!<br />\nSupport Local: Chat with your favorite local vendors about where you can find their amazing products during the off-season.
LOCATION:425 Cota St\, Shelton\, WA
UID:e.71.68113
SEQUENCE:3
DTSTAMP:20260424T163726Z
URL:https://chamber.masonchamber.com/events/details/shelton-farmers-market-10-26-2024-68113
END:VEVENT

END:VCALENDAR
