BEGIN:VCALENDAR
VERSION:2.0
PRODID:-//ChamberMaster//Event Calendar 2.0//EN
METHOD:PUBLISH
X-PUBLISHED-TTL:P3D
REFRESH-INTERVAL:P3D
CALSCALE:GREGORIAN
BEGIN:VEVENT
DTSTART:20241026T180000Z
DTEND:20241026T200000Z
X-MICROSOFT-CDO-ALLDAYEVENT:FALSE
SUMMARY:Shelton Cinema Halloween Movie & Food Drive
DESCRIPTION:Free admission with a donation of nonperishable food items four our local food banks. Seating is first come\, first serve. Come enjoy some spooky fun and help our community at the same time.
X-ALT-DESC;FMTTYPE=text/html:Free admission with a donation of nonperishable food items four our local food banks. Seating is first come\, first serve. Come enjoy some spooky fun and help our community at the same time.
LOCATION:
UID:e.71.68232
SEQUENCE:3
DTSTAMP:20260424T150924Z
URL:https://chamber.masonchamber.com/events/details/shelton-cinema-halloween-movie-food-drive-68232
END:VEVENT

END:VCALENDAR
