BEGIN:VCALENDAR
VERSION:2.0
PRODID:-//ChamberMaster//Event Calendar 2.0//EN
METHOD:PUBLISH
X-PUBLISHED-TTL:P3D
REFRESH-INTERVAL:P3D
CALSCALE:GREGORIAN
BEGIN:VEVENT
DTSTART:20220605T170000Z
DTEND:20220605T220000Z
X-MICROSOFT-CDO-ALLDAYEVENT:FALSE
SUMMARY:Shelton Car Showoff
DESCRIPTION:The Shelton Car Showoff is revving it's engines in 2022! The event is hosted by the Shelton High School Navy Junior ROTC Booster Club and proceeds go to support the cadet's activities and the Mason County Forest Festival.\n\n\n\nRegistration and judging TBD
X-ALT-DESC;FMTTYPE=text/html:<span style="font-size:16px\;"><span style="font-family:times new roman\;">The Shelton Car Showoff is revving it&#39\;s engines in 2022!&nbsp\;<span style="color: rgb(5\, 5\, 5)\;">The event is hosted by the Shelton High School Navy Junior ROTC Booster Club and proceeds go to support the cadet&#39\;s activities and the Mason County Forest Festival.<br />\n<br />\nRegistration and judging TBD&nbsp\;</span></span></span>
LOCATION:N Olympic Highway (between C Street & K Street) Shelton\, WA
UID:e.71.62630
SEQUENCE:3
DTSTAMP:20260421T114218Z
URL:https://chamber.masonchamber.com/events/details/shelton-car-showoff-62630
END:VEVENT

END:VCALENDAR
