BEGIN:VCALENDAR
VERSION:2.0
PRODID:-//ChamberMaster//Event Calendar 2.0//EN
METHOD:PUBLISH
X-PUBLISHED-TTL:P3D
REFRESH-INTERVAL:P3D
CALSCALE:GREGORIAN
BEGIN:VEVENT
DTSTART:20240214T193000Z
DTEND:20240214T203000Z
X-MICROSOFT-CDO-ALLDAYEVENT:FALSE
SUMMARY:Ribbon Cutting for Shelton Congregant Meals by Seniors Services for South Sound
DESCRIPTION:The community is invited to celebrate the grand opening of Senior Services for South Sound's congregate meal site in Shelton that serves no cost meals to seniors. Senior Services for South Sound has partnered with the Area Agency on Aging to provide this service. This is a come one and come all public event to celebrate senior nutrition with the added benefit of getting seniors out of their housing to share fellowship and avoid isolation.
X-ALT-DESC;FMTTYPE=text/html:The community is invited to celebrate the grand opening of Senior Services for South Sound&#39\;s congregate meal site in Shelton that serves no cost meals to seniors. Senior Services for South Sound has partnered with the Area Agency on Aging to provide this service. This is a come one and come all public event to celebrate senior nutrition with the added benefit of getting seniors out of their housing to share fellowship and avoid isolation.
LOCATION:Shelton United Methodist Church 1900 King St Shelton\, WA 98584
UID:e.71.67892
SEQUENCE:3
DTSTAMP:20260421T102002Z
URL:https://chamber.masonchamber.com/events/details/ribbon-cutting-for-shelton-congregant-meals-by-seniors-services-for-south-sound-67892
END:VEVENT

END:VCALENDAR
