BEGIN:VCALENDAR
VERSION:2.0
PRODID:-//ChamberMaster//Event Calendar 2.0//EN
METHOD:PUBLISH
X-PUBLISHED-TTL:P3D
REFRESH-INTERVAL:P3D
CALSCALE:GREGORIAN
BEGIN:VEVENT
DTSTART:20260522T233000Z
DTEND:20260523T000000Z
X-MICROSOFT-CDO-ALLDAYEVENT:FALSE
SUMMARY:Ribbon Cutting for OneStop NW - Grand Opening!
DESCRIPTION:Help us welcome OneStop Northwest to their new office space on 2nd Street with a Ribbon Cutting Ceremony! This new addition to our downtown business community offers promotional products\, printing\, and IT solutions all in one place. Join us to tour the space\, connect with the team\, and celebrate their continued growth in Mason County. The ribbon cutting will take place at 4:30p\, followed by light refreshments and prize giveaways.
X-ALT-DESC;FMTTYPE=text/html:<p class="p1" style="margin: 0px\; font-style: normal\; font-variant: normal\; font-size-adjust: none\; font-language-override: normal\; font-kerning: auto\; font-optical-sizing: auto\; font-feature-settings: normal\; font-variation-settings: normal\; font-stretch: normal\; font-size: 13px\; line-height: normal\; font-family: &quot\;Helvetica Neue&quot\;\; color: rgb(0\, 0\, 0)\;">Help us welcome OneStop Northwest to their new office space on 2nd Street with a Ribbon Cutting Ceremony! This new addition to our downtown business community offers promotional products\, printing\, and IT solutions all in one place. Join us to tour the space\, connect with the team\, and celebrate their continued growth in Mason County. The ribbon cutting will take place at 4:30p\, followed by light refreshments and prize giveaways.&nbsp\;</p>\n
LOCATION:OneStop NW 124 N 2nd St Shelton\, WA 98584
UID:e.71.73464
SEQUENCE:3
DTSTAMP:20260424T124412Z
URL:https://chamber.masonchamber.com/events/details/ribbon-cutting-for-onestop-nw-grand-opening-73464
END:VEVENT

END:VCALENDAR
