BEGIN:VCALENDAR
VERSION:2.0
PRODID:-//ChamberMaster//Event Calendar 2.0//EN
METHOD:PUBLISH
X-PUBLISHED-TTL:P3D
REFRESH-INTERVAL:P3D
CALSCALE:GREGORIAN
BEGIN:VEVENT
DTSTART:20260508T233000Z
DTEND:20260509T000000Z
X-MICROSOFT-CDO-ALLDAYEVENT:FALSE
SUMMARY:Ribbon Cutting for Mushroom Headz Tattoo - New Location!
DESCRIPTION:The Chamber is excited to celebrate Mushroom Headz Tattoo's new location on Olympic Hwy with a Ribbon Cutting Ceremony on Friday\, May 8! Come see their spacious storefront\, featuring an expanded lobby\, ample parking\, a large bathroom\, and room for bigger projects.
X-ALT-DESC;FMTTYPE=text/html:<p class="p1" style="margin: 0px\; font-style: normal\; font-variant: normal\; font-size-adjust: none\; font-language-override: normal\; font-kerning: auto\; font-optical-sizing: auto\; font-feature-settings: normal\; font-variation-settings: normal\; font-stretch: normal\; font-size: 13px\; line-height: normal\; font-family: &quot\;Helvetica Neue&quot\;\; color: rgb(0\, 0\, 0)\;">The Chamber is excited to celebrate Mushroom Headz Tattoo&rsquo\;s new location on Olympic Hwy with a Ribbon Cutting Ceremony on Friday\, May 8! Come see their spacious storefront\, featuring an expanded lobby\, ample parking\, a large bathroom\, and room for bigger projects.</p>\n
LOCATION:Mushroom Headz Tattoo 1714 Olympic Hwy N Shelton\, WA 98584
UID:e.71.73465
SEQUENCE:3
DTSTAMP:20260424T123609Z
URL:https://chamber.masonchamber.com/events/details/ribbon-cutting-for-mushroom-headz-tattoo-new-location-73465
END:VEVENT

END:VCALENDAR
