BEGIN:VCALENDAR
VERSION:2.0
PRODID:-//ChamberMaster//Event Calendar 2.0//EN
METHOD:PUBLISH
X-PUBLISHED-TTL:P3D
REFRESH-INTERVAL:P3D
CALSCALE:GREGORIAN
BEGIN:VEVENT
DTSTART:20211023T170000Z
DTEND:20211024T230000Z
X-MICROSOFT-CDO-ALLDAYEVENT:FALSE
SUMMARY:Pumpkin Pickers Special- Simpson Railroad
DESCRIPTION:Don't miss the 2nd Annual Halloween Pumpkin Pickers Special! This was a popular event last year\, so this year it will operate for  two days. Take a train ride to the pumpkin patch to choose a personal pumpkin to take home. Ride a 2.25 mile loop complete with pumpkins\, a hay bale maze\, and trick or treat candy.
X-ALT-DESC;FMTTYPE=text/html:Don&#39\;t miss the 2nd Annual Halloween&nbsp\;Pumpkin Pickers Special! This was a popular event last year\, so this year it will operate for&nbsp\; two days. Take a train ride to the pumpkin patch to choose a personal pumpkin to take home. Ride a 2.25 mile loop complete with pumpkins\, a hay bale maze\, and trick or treat candy.&nbsp\;\n<div>&nbsp\;</div>\n
LOCATION:10138 W Shelton Matlock Rd Shelton\, WA 98584
UID:e.71.61166
SEQUENCE:3
DTSTAMP:20260424T193227Z
URL:https://chamber.masonchamber.com/events/details/pumpkin-pickers-special-simpson-railroad-61166
END:VEVENT

END:VCALENDAR
