BEGIN:VCALENDAR
VERSION:2.0
PRODID:-//ChamberMaster//Event Calendar 2.0//EN
METHOD:PUBLISH
X-PUBLISHED-TTL:P3D
REFRESH-INTERVAL:P3D
CALSCALE:GREGORIAN
BEGIN:VEVENT
DTSTART:20251029T230000Z
DTEND:20251030T010000Z
X-MICROSOFT-CDO-ALLDAYEVENT:FALSE
SUMMARY:Pumpkin Carving Contest at AGYC
DESCRIPTION:Join Alderbrook Golf & Yacht Club for a Pumpkin Carving Contest! Participants should bring their own pumpkin\, cleaned out and ready to carve. \n\nPrizes will be awarded for 1st-3rd place at the Halloween Costume Party on October 31.
X-ALT-DESC;FMTTYPE=text/html:Join Alderbrook Golf &amp\; Yacht Club for a Pumpkin Carving Contest! Participants should bring their own pumpkin\, cleaned out and ready to carve.&nbsp\;<br />\nPrizes will be awarded for 1st-3rd place at the Halloween Costume Party on October 31.&nbsp\;
LOCATION:Alderbrook Golf & Yacht Club 330 E Country Club Dr E Union\, WA 98592
UID:e.71.72217
SEQUENCE:3
DTSTAMP:20260424T134032Z
URL:https://chamber.masonchamber.com/events/details/pumpkin-carving-contest-at-alderbrook-golf-yacht-club-72217
END:VEVENT

END:VCALENDAR
