BEGIN:VCALENDAR
VERSION:2.0
PRODID:-//ChamberMaster//Event Calendar 2.0//EN
METHOD:PUBLISH
X-PUBLISHED-TTL:P3D
REFRESH-INTERVAL:P3D
CALSCALE:GREGORIAN
BEGIN:VEVENT
DTSTART:20241029T220000Z
DTEND:20241030T010000Z
X-MICROSOFT-CDO-ALLDAYEVENT:FALSE
SUMMARY:Pumpkin Carving Contest
DESCRIPTION:All are welcome!\n\nFree entry.\n\nCostumes optional.\n\nPrizes for best pumpkins 1st\, 2nd\, and 3rd place.\n\nBring your cleaned out pumpkin ready to carve.
X-ALT-DESC;FMTTYPE=text/html:All are welcome!<br />\nFree entry.<br />\nCostumes optional.<br />\nPrizes for best pumpkins 1st\, 2nd\, and 3rd place.<br />\nBring your cleaned out pumpkin ready to carve.
LOCATION:AGYC Clubhouse 330 E Country Club Drive E
UID:e.71.68229
SEQUENCE:3
DTSTAMP:20260424T150318Z
URL:https://chamber.masonchamber.com/events/details/pumpkin-carving-contest-68229
END:VEVENT

END:VCALENDAR
