BEGIN:VCALENDAR
VERSION:2.0
PRODID:-//ChamberMaster//Event Calendar 2.0//EN
METHOD:PUBLISH
X-PUBLISHED-TTL:P3D
REFRESH-INTERVAL:P3D
CALSCALE:GREGORIAN
BEGIN:VEVENT
DTSTART:20241026T003000Z
DTEND:20241026T023000Z
X-MICROSOFT-CDO-ALLDAYEVENT:FALSE
SUMMARY:October Kids Club-Spooky Wood Signs
DESCRIPTION:The Painted Heart LCC invited you to join them at their monthly Kids Club!\n\nThis month kids will choose from a variety of spooky wood cut outs to paint and place on a wood background!\n\nBackgrounds can be painted in any spooky way they wish\, full moon\, creepy forest\, graveyard\, you name it!\n\n \n\nThe Painted Heart LCC has MOVED locations!\n\nNow located at\n\n215 W Railroad Ave\n\nShelton WA 98584\n\nPlease call 360-462-0220 with any questions.
X-ALT-DESC;FMTTYPE=text/html:<div class="xdj266r x11i5rnm xat24cr x1mh8g0r x1vvkbs" style="margin: 0px\; overflow-wrap: break-word\; font-family: &quot\;Segoe UI Historic&quot\;\, &quot\;Segoe UI&quot\;\, Helvetica\, Arial\, sans-serif\; color: rgb(5\, 5\, 5)\; font-size: 15px\; background-color: rgb(255\, 255\, 255)\;">The Painted Heart LCC invited you to join them at their&nbsp\;monthly Kids Club!<br class="html-br" />\nThis month kids will choose from a variety of spooky wood cut outs to paint and place on a wood background!<br class="html-br" />\nBackgrounds can be painted in any spooky way they wish\, full moon\, creepy forest\, graveyard\, you name it!<br />\n&nbsp\;</div>\n\n<div class="x11i5rnm xat24cr x1mh8g0r x1vvkbs xtlvy1s" style="margin: 0.5em 0px 0px\; overflow-wrap: break-word\; font-family: &quot\;Segoe UI Historic&quot\;\, &quot\;Segoe UI&quot\;\, Helvetica\, Arial\, sans-serif\; color: rgb(5\, 5\, 5)\; font-size: 15px\; background-color: rgb(255\, 255\, 255)\;">The Painted Heart LCC has&nbsp\;<u><strong>MOVED</strong></u> locations!<br class="html-br" />\nNow&nbsp\;located at<br class="html-br" />\n215 W Railroad Ave<br class="html-br" />\nShelton WA 98584</div>\n\n<div class="x11i5rnm xat24cr x1mh8g0r x1vvkbs xtlvy1s" style="margin: 0.5em 0px 0px\; overflow-wrap: break-word\; font-family: &quot\;Segoe UI Historic&quot\;\, &quot\;Segoe UI&quot\;\, Helvetica\, Arial\, sans-serif\; color: rgb(5\, 5\, 5)\; font-size: 15px\; background-color: rgb(255\, 255\, 255)\;">Please call 360-462-0220 with any questions.</div>\n
LOCATION:215 W Railroad Ave Shelton WA 98584
UID:e.71.68258
SEQUENCE:3
DTSTAMP:20260424T150655Z
URL:https://chamber.masonchamber.com/events/details/october-kids-club-spooky-wood-signs-68258
END:VEVENT

END:VCALENDAR
