BEGIN:VCALENDAR
VERSION:2.0
PRODID:-//ChamberMaster//Event Calendar 2.0//EN
METHOD:PUBLISH
X-PUBLISHED-TTL:P3D
REFRESH-INTERVAL:P3D
CALSCALE:GREGORIAN
BEGIN:VEVENT
DTSTART:20241031T230000Z
DTEND:20241101T010000Z
X-MICROSOFT-CDO-ALLDAYEVENT:FALSE
SUMMARY:NCCU Trunk or Treat & Harvest Festival
DESCRIPTION:Join NCCU for their 20th Annual Trunk or Treat/Harvest Festival. Cars and treats\, safe\, good time playing games\, photo area will be available. Open to all children\, come show off those great costumes.
X-ALT-DESC;FMTTYPE=text/html:<span style="color: rgb(5\, 5\, 5)\; font-family: &quot\;Segoe UI Historic&quot\;\, &quot\;Segoe UI&quot\;\, Helvetica\, Arial\, sans-serif\; font-size: 15px\; white-space-collapse: preserve\; background-color: rgb(255\, 255\, 255)\;">Join NCCU for their 20th Annual Trunk or Treat/Harvest Festival. Cars and treats\, safe\, good time playing games\, photo area will be available. Open to all children\, come show off those great costumes.</span>
LOCATION:New Community Church of Union 951 E Dalby Road\, Union WA
UID:e.71.68267
SEQUENCE:3
DTSTAMP:20260422T194217Z
URL:https://chamber.masonchamber.com/events/details/nccu-trunk-or-treat-harvest-festival-68267
END:VEVENT

END:VCALENDAR
