BEGIN:VCALENDAR
VERSION:2.0
PRODID:-//ChamberMaster//Event Calendar 2.0//EN
METHOD:PUBLISH
X-PUBLISHED-TTL:P3D
REFRESH-INTERVAL:P3D
CALSCALE:GREGORIAN
BEGIN:VEVENT
DTSTART:20240217T020000Z
DTEND:20240217T050000Z
X-MICROSOFT-CDO-ALLDAYEVENT:FALSE
SUMMARY:Musician Dakota Poorman at El Sarape Cantina
DESCRIPTION:Live music
X-ALT-DESC;FMTTYPE=text/html:Live music
LOCATION:El Sarape Cantina 318 W Railroad Ave Shelton\, WA
UID:e.71.67874
SEQUENCE:3
DTSTAMP:20260419T232546Z
URL:https://chamber.masonchamber.com/events/details/musician-dakota-poorman-at-el-sarape-cantina-67874
END:VEVENT

END:VCALENDAR
