BEGIN:VCALENDAR
VERSION:2.0
PRODID:-//ChamberMaster//Event Calendar 2.0//EN
METHOD:PUBLISH
X-PUBLISHED-TTL:P3D
REFRESH-INTERVAL:P3D
CALSCALE:GREGORIAN
BEGIN:VEVENT
DTSTART;VALUE=DATE:20210505
DTEND;VALUE=DATE:20210506
TRANSP:TRANSPARENT
X-MICROSOFT-CDO-ALLDAYEVENT:TRUE
SUMMARY:Master Gardener Online Plant Sale
DESCRIPTION:2021 ONLINE Annual Plant Sale offered by the Master Gardeners Foundation of Mason County. Hundreds of plants\, each individually priced. Tomatoes\, peppers\, vegetables\, annuals\, herbs\, natives\, perennials\, and plant-themed garden crafts\, and more!\n\n\n\nEasy online ordering: https://my.cheddarup.com/c/mgfmc2021plantsale\n\nSafe\, simple drive-thru pickup.
X-ALT-DESC;FMTTYPE=text/html:<span style="font-size:14px\;"><span style="font-family:arial\;">2021 ONLINE Annual Plant Sale offered by the Master Gardeners Foundation of Mason County. Hundreds of plants\, each individually priced. Tomatoes\, peppers\, vegetables\, annuals\, herbs\, natives\, perennials\, and plant-themed garden crafts\, and more!<br />\n<br />\n<strong>Easy online ordering:&nbsp\;<span style="color:#0000FF\;">https://my.cheddarup.com/c/mgfmc2021plantsale</span></strong><br />\nSafe\, simple drive-thru pickup.&nbsp\;</span></span>
LOCATION:Shelton
UID:e.71.60594
SEQUENCE:3
DTSTAMP:20260426T020727Z
URL:https://chamber.masonchamber.com/events/details/master-gardener-online-plant-sale-05-05-2021-60594
END:VEVENT

END:VCALENDAR
