BEGIN:VCALENDAR
VERSION:2.0
PRODID:-//ChamberMaster//Event Calendar 2.0//EN
METHOD:PUBLISH
X-PUBLISHED-TTL:P3D
REFRESH-INTERVAL:P3D
CALSCALE:GREGORIAN
BEGIN:VEVENT
DTSTART:20241025T210000Z
DTEND:20241025T230000Z
X-MICROSOFT-CDO-ALLDAYEVENT:FALSE
SUMMARY:Mason Health Trunk or Treat
DESCRIPTION:Join Mason Heath for their 5th Annual Truck-or-Treat! This is a regular walk through event\, no driving. \n\n\n\nMason Health's Pharmacy Team will be onsite offering flu shots. \n\n\n\nMason Health will also be hosting a "Socktober Sock Drive" for Mason Clinic's voucher care program for patients in need. Anyone who donates a pair of socks during the event will be entered into a drawing for a gift basket at the event.
X-ALT-DESC;FMTTYPE=text/html:Join Mason Heath for their 5th Annual Truck-or-Treat! This is a regular walk through event\, no driving.&nbsp\;<br />\n<br />\nMason Health&#39\;s Pharmacy Team will be onsite offering flu shots.&nbsp\;<br />\n<br />\nMason Health will also be hosting a &quot\;Socktober Sock Drive&quot\; for Mason Clinic&#39\;s voucher care program for patients in need. Anyone who donates a pair of socks during the event will be entered into a drawing for a gift basket at the event.&nbsp\;
LOCATION:Mason General Hospital Emergency Department Parking Lot Shelton\, WA
UID:e.71.68192
SEQUENCE:3
DTSTAMP:20260424T150609Z
URL:https://chamber.masonchamber.com/events/details/mason-health-trunk-or-treat-68192
END:VEVENT

END:VCALENDAR
