BEGIN:VCALENDAR
VERSION:2.0
PRODID:-//ChamberMaster//Event Calendar 2.0//EN
METHOD:PUBLISH
X-PUBLISHED-TTL:P3D
REFRESH-INTERVAL:P3D
CALSCALE:GREGORIAN
BEGIN:VEVENT
DTSTART:20251024T210000Z
DTEND:20251024T230000Z
X-MICROSOFT-CDO-ALLDAYEVENT:FALSE
SUMMARY:Mason Health Trunk-or-Treat
DESCRIPTION:Join Mason Heath for their Annual Truck-or-Treat! This is a regular walk through event\, no driving. \n\n\n\nMason Health's Pharmacy Team will be onsite offering flu shots thanks to event sponsor Wellpoint. \n\n\n\nNote: This event is happening during Maple Glen Assisted Living's Trunk or Treat. Make sure you stop by both events!
X-ALT-DESC;FMTTYPE=text/html:Join Mason Heath for their Annual Truck-or-Treat! This is a regular walk through event\, no driving.&nbsp\;<br />\n<br />\nMason Health&#39\;s Pharmacy Team will be onsite offering flu shots thanks to event sponsor Wellpoint.&nbsp\;<br />\n<br />\nNote: This event is happening during Maple Glen Assisted Living&#39\;s Trunk or Treat. Make sure you stop by both events!&nbsp\;<br />\n<br />\n&nbsp\;
LOCATION:Mason General Hospital Emergency Department Parking Lot Shelton\, WA
UID:e.71.71789
SEQUENCE:3
DTSTAMP:20260424T133936Z
URL:https://chamber.masonchamber.com/events/details/mason-health-trunk-or-treat-10-24-2025-71789
END:VEVENT

END:VCALENDAR
