BEGIN:VCALENDAR
VERSION:2.0
PRODID:-//ChamberMaster//Event Calendar 2.0//EN
METHOD:PUBLISH
X-PUBLISHED-TTL:P3D
REFRESH-INTERVAL:P3D
CALSCALE:GREGORIAN
BEGIN:VEVENT
DTSTART:20241025T210000Z
DTEND:20241026T003000Z
X-MICROSOFT-CDO-ALLDAYEVENT:FALSE
SUMMARY:Maple Glen Trunk or Treat
DESCRIPTION:Join Maple Glen Assisted Living for their walk-through Truck or Treat!
X-ALT-DESC;FMTTYPE=text/html:Join Maple Glen Assisted Living for their walk-through Truck or Treat!&nbsp\;
LOCATION:Maple Glen Assisted Living 1700 N 13th Loop Rd Shelton\, WA 98584
UID:e.71.68201
SEQUENCE:3
DTSTAMP:20260424T150221Z
URL:https://chamber.masonchamber.com/events/details/maple-glen-trunk-or-treat-68201
END:VEVENT

END:VCALENDAR
