BEGIN:VCALENDAR
VERSION:2.0
PRODID:-//ChamberMaster//Event Calendar 2.0//EN
METHOD:PUBLISH
X-PUBLISHED-TTL:P3D
REFRESH-INTERVAL:P3D
CALSCALE:GREGORIAN
BEGIN:VEVENT
DTSTART;VALUE=DATE:20260530
DTEND;VALUE=DATE:20260531
TRANSP:TRANSPARENT
X-MICROSOFT-CDO-ALLDAYEVENT:TRUE
SUMMARY:Humaine Society Save the Date 15th Annual Dinner & Auction
DESCRIPTION:Save the Date\n\n15th Annual Dinner & Auction\n\n\n\nChanging Lives One TAIL at a time
X-ALT-DESC;FMTTYPE=text/html:Save the Date<br />\n15th Annual Dinner &amp\; Auction<br />\n<br />\nChanging Lives One TAIL at a time
LOCATION:Little Creek Casino
UID:e.71.72420
SEQUENCE:3
DTSTAMP:20260424T144603Z
URL:https://chamber.masonchamber.com/events/details/humaine-society-save-the-date-15th-annual-dinner-auction-72420
END:VEVENT

END:VCALENDAR
