BEGIN:VCALENDAR
VERSION:2.0
PRODID:-//ChamberMaster//Event Calendar 2.0//EN
METHOD:PUBLISH
X-PUBLISHED-TTL:P3D
REFRESH-INTERVAL:P3D
CALSCALE:GREGORIAN
BEGIN:VEVENT
DTSTART:20211030T000000Z
DTEND:20211030T050000Z
X-MICROSOFT-CDO-ALLDAYEVENT:FALSE
SUMMARY:Huff N Puff Haunted Trail
DESCRIPTION:The SHS Senior Boosters invite the community to a Haunted Huff N Puff Trail. \n\n\n\nEveryone is invited although kid time is designated as 5:00-7:00p\; the remaining hours of 7:00-10:00p is scare time. \n\n\n\nThe cost to enter is $6pp and ages 0-2 are free. Guests will receive $1 with a can/box food donation. A family discount of $20 for up to 5 is also offered.\n\n\n\nThis is a fundraiser to help send the Senior Class of 2022 on a Senior Grad Night Party.
X-ALT-DESC;FMTTYPE=text/html:The SHS Senior Boosters invite the community to a Haunted Huff N Puff Trail.&nbsp\;<br />\n<br />\nEveryone is invited although kid time is designated as 5:00-7:00p\; the remaining hours of 7:00-10:00p is scare time.&nbsp\;<br />\n<br />\nThe cost to enter is $6pp and ages 0-2 are free. Guests will receive $1 with a can/box food donation. A family discount of $20 for up to 5 is also offered.<br />\n<br />\nThis is a fundraiser to help send the Senior Class of 2022 on a Senior Grad Night Party.
LOCATION:Huff N Puff Trail 3600 N Shelton Springs Rd Shelton\, WA 98584
UID:e.71.61620
SEQUENCE:3
DTSTAMP:20260424T181720Z
URL:https://chamber.masonchamber.com/events/details/huff-n-puff-haunted-trail-61620
END:VEVENT

END:VCALENDAR
