BEGIN:VCALENDAR
VERSION:2.0
PRODID:-//ChamberMaster//Event Calendar 2.0//EN
METHOD:PUBLISH
X-PUBLISHED-TTL:P3D
REFRESH-INTERVAL:P3D
CALSCALE:GREGORIAN
BEGIN:VEVENT
DTSTART:20241026T220000Z
DTEND:20241027T040000Z
X-MICROSOFT-CDO-ALLDAYEVENT:FALSE
SUMMARY:Haunted Halloween Trail Family & Kids
DESCRIPTION:This year's Haunted Halloween Trail will be supporting NJROTC\, SHS Class of 2025\, SHS Boosters\, Toys for Tots\, and Local School Pantries.\n\n\n\nLet's show them some support!
X-ALT-DESC;FMTTYPE=text/html:<div class="xdj266r x11i5rnm xat24cr x1mh8g0r x1vvkbs x126k92a" style="margin: 0px\; overflow-wrap: break-word\; white-space-collapse: preserve\; font-family: &quot\;Segoe UI Historic&quot\;\, &quot\;Segoe UI&quot\;\, Helvetica\, Arial\, sans-serif\; color: rgb(5\, 5\, 5)\; font-size: 15px\; background-color: rgb(255\, 255\, 255)\;">\n<div dir="auto" style="font-family: inherit\;">This year&#39\;s Haunted Halloween Trail will be supporting NJROTC\, SHS Class of 2025\, SHS Boosters\, Toys for Tots\, and Local School Pantries.</div>\n</div>\n\n<div class="x11i5rnm xat24cr x1mh8g0r x1vvkbs xtlvy1s x126k92a" style="margin: 0.5em 0px 0px\; overflow-wrap: break-word\; white-space-collapse: preserve\; font-family: &quot\;Segoe UI Historic&quot\;\, &quot\;Segoe UI&quot\;\, Helvetica\, Arial\, sans-serif\; color: rgb(5\, 5\, 5)\; font-size: 15px\; background-color: rgb(255\, 255\, 255)\;">\n<div dir="auto" style="font-family: inherit\;">Let&#39\;s show them some support!<br />\n&nbsp\;</div>\n</div>\n
LOCATION:Mason County Recreation Area 2100 E Johns Prairie Road\, Shelton
UID:e.71.68245
SEQUENCE:3
DTSTAMP:20260424T163648Z
URL:https://chamber.masonchamber.com/events/details/haunted-halloween-trail-family-kids-68245
END:VEVENT

END:VCALENDAR
