BEGIN:VCALENDAR
VERSION:2.0
PRODID:-//ChamberMaster//Event Calendar 2.0//EN
METHOD:PUBLISH
X-PUBLISHED-TTL:P3D
REFRESH-INTERVAL:P3D
CALSCALE:GREGORIAN
BEGIN:VEVENT
DTSTART:20211030T160000Z
DTEND:20211030T210000Z
X-MICROSOFT-CDO-ALLDAYEVENT:FALSE
SUMMARY:Harvest Celebration at Shelton Farmers Market
DESCRIPTION:Harvest Celebration At the Shelton Farmers Market - costumes\, face painting\, trick or treating\, and much more. Shop local arts\, crafts\, food\, and farm vendors.\n\n\n\nPlease bring along toiletries donations this week to support the Other Bank Harvest.
X-ALT-DESC;FMTTYPE=text/html:Harvest Celebration At the Shelton Farmers Market - costumes\, face painting\, trick or treating\, and much more. Shop local arts\, crafts\, food\, and farm vendors.<br />\n<br />\nPlease bring along toiletries donations this week to support the Other Bank Harvest.
LOCATION:Evergreen Square\, Railroad Avenue Shelton\, WA
UID:e.71.61172
SEQUENCE:3
DTSTAMP:20260424T182011Z
URL:https://chamber.masonchamber.com/events/details/harvest-celebration-at-shelton-farmers-market-61172
END:VEVENT

END:VCALENDAR
