BEGIN:VCALENDAR
VERSION:2.0
PRODID:-//ChamberMaster//Event Calendar 2.0//EN
METHOD:PUBLISH
X-PUBLISHED-TTL:P3D
REFRESH-INTERVAL:P3D
CALSCALE:GREGORIAN
BEGIN:VEVENT
DTSTART:20251101T020000Z
DTEND:20251101T040000Z
X-MICROSOFT-CDO-ALLDAYEVENT:FALSE
SUMMARY:Halloween Spooktacular Movie Night: The Corpse Bride
DESCRIPTION:This Halloween\, Shelton Cinemas is hosting another spooktacular night of film and community giving! Gather the family and settle in for Tim Burton's The Corpse Bride (PG)\, a beautifully gothic animated classic filled with music\, magic\, and a heartfelt love story from beyond the grave.\n\n\n\nSeating is first come\, first served so get there early to buy popcorn and enjoy a hauntingly fun Halloween evening on the big screen.
X-ALT-DESC;FMTTYPE=text/html:This Halloween\, Shelton Cinemas is hosting another spooktacular night of film and community giving! Gather the family and settle in for <em>Tim Burton&rsquo\;s The Corpse Bride </em>(PG)\, a beautifully gothic animated classic filled with music\, magic\, and a heartfelt love story from beyond the grave.<br />\n<br />\nSeating is first come\, first served so get there early to buy popcorn and enjoy a hauntingly fun Halloween evening on the big screen.&nbsp\;
LOCATION:Shelton Cinemas 517 W Franklin St Shelton\, WA 98584
UID:e.71.72208
SEQUENCE:3
DTSTAMP:20260424T133816Z
URL:https://chamber.masonchamber.com/events/details/halloween-spooktacular-movie-night-the-corpse-bride-72208
END:VEVENT

END:VCALENDAR
