BEGIN:VCALENDAR
VERSION:2.0
PRODID:-//ChamberMaster//Event Calendar 2.0//EN
METHOD:PUBLISH
X-PUBLISHED-TTL:P3D
REFRESH-INTERVAL:P3D
CALSCALE:GREGORIAN
BEGIN:VEVENT
DTSTART:20251031T230000Z
DTEND:20251101T010000Z
X-MICROSOFT-CDO-ALLDAYEVENT:FALSE
SUMMARY:Halloween Spooktacular
DESCRIPTION:Once again\, the Chamber is partnering with Shelton Downtown Merchants to bring you a wickedly fun evening of trick-or-treating with our local businesses and organizations! \n\nDon't forget to check out the photo booth at Cooper Studios and the Costume Contest hosted by John L Scott.\n\n\n\nThe event hours are 4:00-6:00p on Friday\, October 31. Railroad Ave will be closed from 1st to 5th streets.\n\n\n\nAre you a business interested in setting up a booth? Register here: https://masonchamber.com/spooktacular/
X-ALT-DESC;FMTTYPE=text/html:<div class="kvgmc6g5 cxmmr5t8 oygrvhab hcukyx3x c1et5uql" style="overflow-wrap: break-word\; margin: 0px\; font-family: inherit\;">\n<div class="kvgmc6g5 cxmmr5t8 oygrvhab hcukyx3x c1et5uql" style="overflow-wrap: break-word\; margin: 0px\; font-family: &quot\;Segoe UI Historic&quot\;\, &quot\;Segoe UI&quot\;\, Helvetica\, Arial\, sans-serif\; color: rgb(5\, 5\, 5)\; font-size: 15px\;">\n<p style="box-sizing: border-box\; -webkit-tap-highlight-color: transparent\; margin: 0px 0px 15px\; line-height: 1.618\; color: rgb(60\, 72\, 88)\; font-family: Roboto\, Helvetica\, Arial\, sans-serif\; font-size: 16px\;"><span style="color:#000000\;"><span style="font-size:12px\;"><span style="font-family:arial\;">Once again\, the Chamber is partnering with Shelton Downtown Merchants to</span></span><span style="font-size:12px\;"><span style="font-family:arial\;">&nbsp\;bring you a wickedly fun evening of trick-or-treating with our local businesses and organizations!&nbsp\;<br />\nDon&#39\;t forget to check out the photo booth at Cooper Studios and the Costume Contest hosted by John L Scott.</span></span><br />\n<br />\n<span style="font-size:12px\;"><span style="font-family:arial\;">The event hours are 4:00-6:00p on Friday\, October 31. Railroad Ave will be closed from 1st to 5th streets.<br />\n<br />\nAre you a business interested in setting up a booth? Register here:&nbsp\;https://masonchamber.com/spooktacular/</span></span></span></p>\n</div>\n</div>\n\n<div class="o9v6fnle cxmmr5t8 oygrvhab hcukyx3x c1et5uql" style="overflow-wrap: break-word\; margin: 0.5em 0px 0px\; font-family: inherit\;">&nbsp\;</div>\n
LOCATION:Railroad Ave\, Shelton
UID:e.71.72199
SEQUENCE:3
DTSTAMP:20260424T133719Z
URL:https://chamber.masonchamber.com/events/details/halloween-spooktacular-72199
END:VEVENT

END:VCALENDAR
