BEGIN:VCALENDAR
VERSION:2.0
PRODID:-//ChamberMaster//Event Calendar 2.0//EN
METHOD:PUBLISH
X-PUBLISHED-TTL:P3D
REFRESH-INTERVAL:P3D
CALSCALE:GREGORIAN
BEGIN:VEVENT
DTSTART:20241031T230000Z
DTEND:20241101T010000Z
X-MICROSOFT-CDO-ALLDAYEVENT:FALSE
SUMMARY:Halloween Spooktacular
DESCRIPTION:Once again\, the Chamber is partnering with Shelton Downtown Merchants to present Halloween Spooktacular!\n\n \n\nThis year's festivities will return to Railroad Ave with all activities being held outdoors. The community is invited for an evening of trick-or-treating with local businesses!\n\n\n\nThe event hours are 4:00-6:00p on Thursday\, October 31. Railroad Ave will be closed from 1st to 5th.\n\n\n\nRegister here: https://masonchamber.com/spooktacular/
X-ALT-DESC;FMTTYPE=text/html:<div class="kvgmc6g5 cxmmr5t8 oygrvhab hcukyx3x c1et5uql" style="overflow-wrap: break-word\; margin: 0px\; font-family: inherit\;">\n<div class="kvgmc6g5 cxmmr5t8 oygrvhab hcukyx3x c1et5uql" style="overflow-wrap: break-word\; margin: 0px\; font-family: &quot\;Segoe UI Historic&quot\;\, &quot\;Segoe UI&quot\;\, Helvetica\, Arial\, sans-serif\; color: rgb(5\, 5\, 5)\; font-size: 15px\;">Once again\, the Chamber is partnering with Shelton Downtown Merchants to present Halloween Spooktacular!<br />\n&nbsp\;</div>\n\n<div class="o9v6fnle cxmmr5t8 oygrvhab hcukyx3x c1et5uql" style="overflow-wrap: break-word\; margin: 0.5em 0px 0px\; font-family: &quot\;Segoe UI Historic&quot\;\, &quot\;Segoe UI&quot\;\, Helvetica\, Arial\, sans-serif\; color: rgb(5\, 5\, 5)\; font-size: 15px\;">This year&rsquo\;s festivities will return to Railroad Ave with all activities being held outdoors. The community is invited for an evening of trick-or-treating with local businesses!<br />\n<br />\nThe event hours are 4:00-6:00p on Thursday\, October 31. Railroad Ave will be closed from 1st to 5th.<br />\n<br />\nRegister here:&nbsp\;https://masonchamber.com/spooktacular/</div>\n</div>\n\n<div class="o9v6fnle cxmmr5t8 oygrvhab hcukyx3x c1et5uql" style="overflow-wrap: break-word\; margin: 0.5em 0px 0px\; font-family: inherit\;">&nbsp\;</div>\n
LOCATION:Railroad Ave\, Shelton
UID:e.71.68199
SEQUENCE:3
DTSTAMP:20260424T150157Z
URL:https://chamber.masonchamber.com/events/details/halloween-spooktacular-68199
END:VEVENT

END:VCALENDAR
