BEGIN:VCALENDAR
VERSION:2.0
PRODID:-//ChamberMaster//Event Calendar 2.0//EN
METHOD:PUBLISH
X-PUBLISHED-TTL:P3D
REFRESH-INTERVAL:P3D
CALSCALE:GREGORIAN
BEGIN:VEVENT
DTSTART:20211031T193000Z
DTEND:20211031T210000Z
X-MICROSOFT-CDO-ALLDAYEVENT:FALSE
SUMMARY:Halloween Showing of Hotel Transylvania 3 & Food Drive
DESCRIPTION:The Shelton Cinemas presents "HOTEL TRANSYLVANIA 3" (PG) as its Halloween movie feature. Enjoy some spooky fun and help our community at the same time. The price of admission is a donation of nonperishable food items for our local food banks. Seating is first come\, first served. Costumes are welcomed. Masks are still required due to the pandemic.\n\n\n\nSuggested food donations include: peanut butter\, tuna fish\, canned meat\, beef stew\, chili\, soups\, juice\, mac and cheese\, and canned beans.
X-ALT-DESC;FMTTYPE=text/html:The Shelton Cinemas presents &quot\;HOTEL TRANSYLVANIA 3&quot\; (PG) as its Halloween movie feature. Enjoy some spooky fun and help our community at the same time. The price of admission is a donation of nonperishable food items for our local food banks. Seating is first come\, first served. Costumes are welcomed. Masks are still required due to the pandemic.<br />\n<br />\nSuggested food donations include: peanut butter\, tuna fish\, canned meat\, beef stew\, chili\, soups\, juice\, mac and cheese\, and canned beans.
LOCATION:
UID:e.71.61619
SEQUENCE:3
DTSTAMP:20260424T193452Z
URL:https://chamber.masonchamber.com/events/details/halloween-showing-of-hotel-transylvania-3-food-drive-61619
END:VEVENT

END:VCALENDAR
