BEGIN:VCALENDAR
VERSION:2.0
PRODID:-//ChamberMaster//Event Calendar 2.0//EN
METHOD:PUBLISH
X-PUBLISHED-TTL:P3D
REFRESH-INTERVAL:P3D
CALSCALE:GREGORIAN
BEGIN:VEVENT
DTSTART:20251031T230000Z
DTEND:20251101T030000Z
X-MICROSOFT-CDO-ALLDAYEVENT:FALSE
SUMMARY:Halloween Horse Race & Costume Party at AGYC
DESCRIPTION:Join Alderbrook Golf & Yacht Club for a Halloween Horse Race & Costume Party! All are welcome. \n\n\n\nThere will be a Trunk-or-Treat in the clubhouse parking lot from 4:00-6:00p. The costume party begins at 5:00p with music by Suped Up Fjord until 8:00p. Bring your favorite pumpkin dessert for a chance to win bragging right and a prize! \n\n\n\nHorse Race Details: \n\nThe horse race begins at 3:00p. There is a $10 entry fee (cash only). Please sign up and pay by 2:00p the day of the event. Costumes are optional. There will be prizes for three teams.
X-ALT-DESC;FMTTYPE=text/html:Join Alderbrook Golf &amp\; Yacht Club for a Halloween Horse Race &amp\; Costume Party! All are welcome.&nbsp\;<br />\n<br />\nThere will be a Trunk-or-Treat in the clubhouse parking lot from 4:00-6:00p. The costume party begins at 5:00p with music by Suped Up Fjord until 8:00p. Bring your favorite pumpkin dessert for a chance to win bragging right and a prize!&nbsp\;<br />\n<br />\nHorse Race Details:&nbsp\;<br />\nThe horse race begins at 3:00p. There is a $10 entry fee (cash only). Please sign up and pay by 2:00p the day of the event. Costumes are optional. There will be prizes for three teams.&nbsp\;
LOCATION:Alderbrook Golf & Yacht Club 330 E Country Clud Dr E Union\, WA 98592
UID:e.71.72218
SEQUENCE:3
DTSTAMP:20260424T133903Z
URL:https://chamber.masonchamber.com/events/details/halloween-horse-race-costume-party-at-agyc-72218
END:VEVENT

END:VCALENDAR
