BEGIN:VCALENDAR
VERSION:2.0
PRODID:-//ChamberMaster//Event Calendar 2.0//EN
METHOD:PUBLISH
X-PUBLISHED-TTL:P3D
REFRESH-INTERVAL:P3D
CALSCALE:GREGORIAN
BEGIN:VEVENT
DTSTART:20241031T220000Z
DTEND:20241101T030000Z
X-MICROSOFT-CDO-ALLDAYEVENT:FALSE
SUMMARY:Halloween Horse Race & Costume Party
DESCRIPTION:Come play a game of scramble with your friends. All are welcome!\n\nSign up and pay in the golf course shop by 2pm on day of Event. \n\nCostumes optional.\n\nPrizes for top 3 teams paid at end of competition.\n\nGather in the Clubhouse after the event and join the Halloween Party starting at 5pm.
X-ALT-DESC;FMTTYPE=text/html:Come play a game of scramble with your friends. All are welcome!<br />\nSign up and pay in the golf course shop by 2pm on day of Event.&nbsp\;<br />\nCostumes optional.<br />\nPrizes for top 3 teams paid at end of competition.<br />\nGather in the Clubhouse after the event and join the Halloween Party starting at 5pm.
LOCATION:AGYC Golf Course 330 E Country Club Drive E\, Union WA
UID:e.71.68228
SEQUENCE:3
DTSTAMP:20260424T163648Z
URL:https://chamber.masonchamber.com/events/details/halloween-horse-race-costume-party-68228
END:VEVENT

END:VCALENDAR
