BEGIN:VCALENDAR
VERSION:2.0
PRODID:-//ChamberMaster//Event Calendar 2.0//EN
METHOD:PUBLISH
X-PUBLISHED-TTL:P3D
REFRESH-INTERVAL:P3D
CALSCALE:GREGORIAN
BEGIN:VEVENT
DTSTART:20211030T020000Z
DTEND:20211030T065500Z
X-MICROSOFT-CDO-ALLDAYEVENT:FALSE
SUMMARY:Halloween Costume Party at El Sarape Cantina
DESCRIPTION:Join us for our Annual Halloween costume party! Drink Specials and live music by local artists Vance Creek! AND\, guess what? NO COVER! More details to come!\n\nNo Cover. 21+
X-ALT-DESC;FMTTYPE=text/html:<div class="kvgmc6g5 cxmmr5t8 oygrvhab hcukyx3x c1et5uql" style="overflow-wrap: break-word\; margin: 0px\; font-family: &quot\;Segoe UI Historic&quot\;\, &quot\;Segoe UI&quot\;\, Helvetica\, Arial\, sans-serif\; color: rgb(5\, 5\, 5)\; font-size: 15px\;">Join us for our Annual Halloween costume party! Drink Specials and live music by local artists Vance Creek!&nbsp\;<span style="color: rgb(29\, 33\, 41)\; font-family: Helvetica\, Arial\, sans-serif\; font-size: 14px\; white-space: pre-wrap\;">AND\, guess what? NO COVER! </span><span style="color: rgb(5\, 5\, 5)\; font-family: &quot\;Segoe UI Historic&quot\;\, &quot\;Segoe UI&quot\;\, Helvetica\, Arial\, sans-serif\; font-size: 15px\;">More details to come!</span></div>\n\n<div class="o9v6fnle cxmmr5t8 oygrvhab hcukyx3x c1et5uql" style="overflow-wrap: break-word\; margin: 0.5em 0px 0px\; font-family: &quot\;Segoe UI Historic&quot\;\, &quot\;Segoe UI&quot\;\, Helvetica\, Arial\, sans-serif\; color: rgb(5\, 5\, 5)\; font-size: 15px\;">No Cover.&nbsp\;21+</div>\n
LOCATION:El Sarape Cantina 324 W Railroad Ave Shelton\, WA 98584
UID:e.71.61601
SEQUENCE:3
DTSTAMP:20260424T182012Z
URL:https://chamber.masonchamber.com/events/details/halloween-costume-party-at-el-sarape-cantina-61601
END:VEVENT

END:VCALENDAR
