BEGIN:VCALENDAR
VERSION:2.0
PRODID:-//ChamberMaster//Event Calendar 2.0//EN
METHOD:PUBLISH
X-PUBLISHED-TTL:P3D
REFRESH-INTERVAL:P3D
CALSCALE:GREGORIAN
BEGIN:VEVENT
DTSTART:20241026T010000Z
DTEND:20241026T030000Z
X-MICROSOFT-CDO-ALLDAYEVENT:FALSE
SUMMARY:Halloween Carnival Shelton YMCA
DESCRIPTION:Join us for a thrilling Halloween celebration perfect for children ages 2 to 10 completely free for the community!\n\n\n\nFace Painting: Watch as your little ones are transformed into their favorite characters.\n\n\n\nCrafts: Get creative at our craft station\, making spooky decorations to take home.\n\n\n\nGames: Enjoy fun games and win exciting prizes!\n\n\n\nHaunted Hallway: Venture through our delightfully spooky hallway filled with surprises.\n\n\n\nSpooky Story Time: Gather for enchanting tales that spark imagination.\n\n\n\nScary Obstacle Course: Test agility and courage in our fun obstacle course!\n\n\n\nBring your family and friends for a day of laughter and Halloween magic! We can't wait to celebrate with you!
X-ALT-DESC;FMTTYPE=text/html:<span style="font-family: Roboto\, Arial\, sans-serif\; font-size: 13px\; background-color: rgb(255\, 255\, 255)\;">Join us for a thrilling Halloween celebration perfect for children ages 2 to 10&mdash\;completely free for the community!</span><br style="font-family: Roboto\, Arial\, sans-serif\; font-size: 13px\; background-color: rgb(255\, 255\, 255)\;" />\n<br style="font-family: Roboto\, Arial\, sans-serif\; font-size: 13px\; background-color: rgb(255\, 255\, 255)\;" />\n<span style="font-family: Roboto\, Arial\, sans-serif\; font-size: 13px\; background-color: rgb(255\, 255\, 255)\;">Face Painting: Watch as your little ones are transformed into their favorite characters.</span><br style="font-family: Roboto\, Arial\, sans-serif\; font-size: 13px\; background-color: rgb(255\, 255\, 255)\;" />\n<br style="font-family: Roboto\, Arial\, sans-serif\; font-size: 13px\; background-color: rgb(255\, 255\, 255)\;" />\n<span style="font-family: Roboto\, Arial\, sans-serif\; font-size: 13px\; background-color: rgb(255\, 255\, 255)\;">Crafts: Get creative at our craft station\, making spooky decorations to take home.</span><br style="font-family: Roboto\, Arial\, sans-serif\; font-size: 13px\; background-color: rgb(255\, 255\, 255)\;" />\n<br style="font-family: Roboto\, Arial\, sans-serif\; font-size: 13px\; background-color: rgb(255\, 255\, 255)\;" />\n<span style="font-family: Roboto\, Arial\, sans-serif\; font-size: 13px\; background-color: rgb(255\, 255\, 255)\;">Games: Enjoy fun games and win exciting prizes!</span><br style="font-family: Roboto\, Arial\, sans-serif\; font-size: 13px\; background-color: rgb(255\, 255\, 255)\;" />\n<br style="font-family: Roboto\, Arial\, sans-serif\; font-size: 13px\; background-color: rgb(255\, 255\, 255)\;" />\n<span style="font-family: Roboto\, Arial\, sans-serif\; font-size: 13px\; background-color: rgb(255\, 255\, 255)\;">Haunted Hallway: Venture through our delightfully spooky hallway filled with surprises.</span><br style="font-family: Roboto\, Arial\, sans-serif\; font-size: 13px\; background-color: rgb(255\, 255\, 255)\;" />\n<br style="font-family: Roboto\, Arial\, sans-serif\; font-size: 13px\; background-color: rgb(255\, 255\, 255)\;" />\n<span style="font-family: Roboto\, Arial\, sans-serif\; font-size: 13px\; background-color: rgb(255\, 255\, 255)\;">Spooky Story Time: Gather for enchanting tales that spark imagination.</span><br style="font-family: Roboto\, Arial\, sans-serif\; font-size: 13px\; background-color: rgb(255\, 255\, 255)\;" />\n<br style="font-family: Roboto\, Arial\, sans-serif\; font-size: 13px\; background-color: rgb(255\, 255\, 255)\;" />\n<span style="font-family: Roboto\, Arial\, sans-serif\; font-size: 13px\; background-color: rgb(255\, 255\, 255)\;">Scary Obstacle Course: Test agility and courage in our fun obstacle course!</span><br style="font-family: Roboto\, Arial\, sans-serif\; font-size: 13px\; background-color: rgb(255\, 255\, 255)\;" />\n<br style="font-family: Roboto\, Arial\, sans-serif\; font-size: 13px\; background-color: rgb(255\, 255\, 255)\;" />\n<span style="font-family: Roboto\, Arial\, sans-serif\; font-size: 13px\; background-color: rgb(255\, 255\, 255)\;">Bring your family and friends for a day of laughter and Halloween magic! We can&rsquo\;t wait to celebrate with you!</span>
LOCATION:3101 North Shelton Springs Road\, Shelton\, WA Shelton Family YMCA
UID:e.71.68210
SEQUENCE:3
DTSTAMP:20260424T150318Z
URL:https://chamber.masonchamber.com/events/details/halloween-carnival-shelton-ymca-68210
END:VEVENT

END:VCALENDAR
