BEGIN:VCALENDAR
VERSION:2.0
PRODID:-//ChamberMaster//Event Calendar 2.0//EN
METHOD:PUBLISH
X-PUBLISHED-TTL:P3D
REFRESH-INTERVAL:P3D
CALSCALE:GREGORIAN
BEGIN:VEVENT
DTSTART:20241026T000000Z
DTEND:20241026T030000Z
X-MICROSOFT-CDO-ALLDAYEVENT:FALSE
SUMMARY:Halloween Bash @ The Youth Connection
DESCRIPTION:Music Costume Contest & Food.\n\nFirst\, Second and Third place get a "Boo Basket".\n\nAs usual events here are specific to the age group 12-24.
X-ALT-DESC;FMTTYPE=text/html:<span style="font-family: Roboto\, Arial\, sans-serif\; font-size: 13px\; background-color: rgb(255\, 255\, 255)\;">Music Costume Contest &amp\; Food.<br />\nFirst\, Second and Third place get a &quot\;Boo Basket&quot\;.</span><br />\n<span style="color: rgb(51\, 51\, 51)\; font-family: Roboto\, Arial\, sans-serif\; font-size: 13px\; background-color: rgb(255\, 255\, 255)\;">As usual events here are specific to the age group 12-24.</span><br style="font-family: Roboto\, Arial\, sans-serif\; font-size: 13px\; background-color: rgb(255\, 255\, 255)\;" />\n&nbsp\;
LOCATION:123 S 2nd Street Shelton\, WA The Shelton Youth Connection
UID:e.71.68209
SEQUENCE:3
DTSTAMP:20260424T163541Z
URL:https://chamber.masonchamber.com/events/details/halloween-bash-the-youth-connection-68209
END:VEVENT

END:VCALENDAR
