BEGIN:VCALENDAR
VERSION:2.0
PRODID:-//ChamberMaster//Event Calendar 2.0//EN
METHOD:PUBLISH
X-PUBLISHED-TTL:P3D
REFRESH-INTERVAL:P3D
CALSCALE:GREGORIAN
BEGIN:VEVENT
DTSTART:20251011T000000Z
DTEND:20251011T030000Z
X-MICROSOFT-CDO-ALLDAYEVENT:FALSE
SUMMARY:Fall Fest at Gateway
DESCRIPTION:Join Gateway Christian Fellowship for a free night of games and food. Fun for the whole family!
X-ALT-DESC;FMTTYPE=text/html:Join Gateway Christian Fellowship for a free night of games and food. Fun for the whole family!&nbsp\;
LOCATION:Gateway Christian Fellowship 405 S 7th St Shelton\, WA 98584
UID:e.71.71772
SEQUENCE:3
DTSTAMP:20260424T133719Z
URL:https://chamber.masonchamber.com/events/details/fall-fest-at-gateway-71772
END:VEVENT

END:VCALENDAR
