BEGIN:VCALENDAR
VERSION:2.0
PRODID:-//ChamberMaster//Event Calendar 2.0//EN
METHOD:PUBLISH
X-PUBLISHED-TTL:P3D
REFRESH-INTERVAL:P3D
CALSCALE:GREGORIAN
BEGIN:VEVENT
DTSTART:20211029T210000Z
DTEND:20211030T000000Z
X-MICROSOFT-CDO-ALLDAYEVENT:FALSE
SUMMARY:Drive-Thru Trunk or Treat at Mason Health
DESCRIPTION:Mason Health's popular Drive-Thru Trunk or Treat returns to campus on Friday\, Oct. 29. Mason Health departments will compete for the most festive themed trunk\, while cars drive past in a safe and distanced manner. Community members are all invited and costumes are encouraged.
X-ALT-DESC;FMTTYPE=text/html:<span style="color: rgb(5\, 5\, 5)\; font-family: &quot\;Segoe UI Historic&quot\;\, &quot\;Segoe UI&quot\;\, Helvetica\, Arial\, sans-serif\; font-size: 15px\; white-space: pre-wrap\;">Mason Health&#39\;s popular Drive-Thru Trunk or Treat returns to campus on Friday\, Oct. 29. Mason Health departments will compete for the most festive themed trunk\, while cars drive past in a safe and distanced manner. Community members are all invited and costumes are encouraged. </span>
LOCATION:Mason General Hospital Emergency Department side of building Shelton\, WA
UID:e.71.61605
SEQUENCE:3
DTSTAMP:20260424T182011Z
URL:https://chamber.masonchamber.com/events/details/drive-thru-trunk-or-treat-at-mason-health-61605
END:VEVENT

END:VCALENDAR
