BEGIN:VCALENDAR
VERSION:2.0
PRODID:-//ChamberMaster//Event Calendar 2.0//EN
METHOD:PUBLISH
X-PUBLISHED-TTL:P3D
REFRESH-INTERVAL:P3D
CALSCALE:GREGORIAN
BEGIN:VEVENT
DTSTART:20211030T200000Z
DTEND:20211030T213000Z
X-MICROSOFT-CDO-ALLDAYEVENT:FALSE
SUMMARY:Drive Thru Trick 'r Treat @ the Y!
DESCRIPTION:Calling all the little superheroes\, zombies\, and Pok mon characters we have a safe Halloween event for you! No worries parents\, fun and COVID precautions will be in full effect! Little trick or treaters remain in the comforter and safety of their car   our costumed staff and volunteers will bring the treats to them. Just drive thru at the Shelton YMCA!
X-ALT-DESC;FMTTYPE=text/html:Calling all the little superheroes\, zombies\, and Pok&eacute\;mon characters&hellip\;we have a safe Halloween event for you! No worries parents\, fun and COVID precautions will be in full effect! Little trick or treaters remain in the comforter and safety of their car &ndash\; our costumed staff and volunteers will bring the treats to them. Just drive thru at the Shelton YMCA!&nbsp\;
LOCATION:Shelton Family YMCA Parking Lot 3101 N Shelton Springs Rd Shelton\, WA 98584
UID:e.71.61595
SEQUENCE:3
DTSTAMP:20260424T193302Z
URL:https://chamber.masonchamber.com/events/details/drive-thru-trick-r-treat-the-y-61595
END:VEVENT

END:VCALENDAR
