BEGIN:VCALENDAR
VERSION:2.0
PRODID:-//ChamberMaster//Event Calendar 2.0//EN
METHOD:PUBLISH
X-PUBLISHED-TTL:P3D
REFRESH-INTERVAL:P3D
CALSCALE:GREGORIAN
BEGIN:VEVENT
DTSTART:20241101T010000Z
DTEND:20241101T023000Z
X-MICROSOFT-CDO-ALLDAYEVENT:FALSE
SUMMARY:Community Trunk or Treat
DESCRIPTION:
X-ALT-DESC;FMTTYPE=text/html:
LOCATION:Shelton United Methodist Church 1900 King Street Shelton\, WA
UID:e.71.68242
SEQUENCE:3
DTSTAMP:20260424T150318Z
URL:https://chamber.masonchamber.com/events/details/community-trunk-or-treat-68242
END:VEVENT

END:VCALENDAR
