BEGIN:VCALENDAR
VERSION:2.0
PRODID:-//ChamberMaster//Event Calendar 2.0//EN
METHOD:PUBLISH
X-PUBLISHED-TTL:P3D
REFRESH-INTERVAL:P3D
CALSCALE:GREGORIAN
BEGIN:VEVENT
DTSTART:20181010T210000Z
DTEND:20181011T000000Z
X-MICROSOFT-CDO-ALLDAYEVENT:FALSE
SUMMARY:Clock Hours with Brenda
DESCRIPTION:There is an endless variety of lenders and mortgage products available to home buyers\, and understanding it all can be a bit overwhelming. In this class you'll learn how to identify these different loan programs and explore their advantages and disadvantages. You will also cover how the lender matches these programs according to the prospective buyer's wants and needs\, and discuss the costs and fees associated with each of them.\n\n\n\nRSVP by October 9 to brenda.thornbrue@academymortgage.com.
X-ALT-DESC;FMTTYPE=text/html:There is an endless variety of lenders and mortgage products available to home buyers\, and understanding it all can be a bit overwhelming. In this class you&#39\;ll learn how to identify these different loan programs and explore their advantages and disadvantages. You will also cover how the lender matches these programs according to the prospective buyer&#39\;s wants and needs\, and discuss the costs and fees associated with each of them.<br />\n<br />\nRSVP by October 9 to brenda.thornbrue@academymortgage.com.
LOCATION:Mountain View Realty Group 24230 North Hwy 101 Hoodsport\, WA 98548
UID:e.71.46769
SEQUENCE:3
DTSTAMP:20260422T042748Z
URL:https://chamber.masonchamber.com/events/details/clock-hours-with-brenda-46769
END:VEVENT

END:VCALENDAR
