BEGIN:VCALENDAR
VERSION:2.0
PRODID:-//ChamberMaster//Event Calendar 2.0//EN
METHOD:PUBLISH
X-PUBLISHED-TTL:P3D
REFRESH-INTERVAL:P3D
CALSCALE:GREGORIAN
BEGIN:VEVENT
DTSTART:20220113T013000Z
DTEND:20220113T030000Z
X-MICROSOFT-CDO-ALLDAYEVENT:FALSE
SUMMARY:Chamber Business After Hours
DESCRIPTION:Our hometown shipping & technology center welcomes you to a cheery reception complete with libations at our first social of the year. Drop in at Zeppelin's storefront anytime on Wednesday\, January 12 from 5:30-7:30p to socialize and connect with fellow Chamber members\, local business owners\, organizational leaders\, elected officials\, and friends. RSVP requested.\n\nThe Chamber convenes Business After Hours\, a monthly event hosted at member businesses\, on the second Wednesday of each month as a complimentary member benefit. It's designed to bring together local professionals looking to develop new business relationships. If you are not a member yet\, come check it out as a guest. Remember to bring lots of business cards to share\; this is a wonderful opportunity to meet new people.
X-ALT-DESC;FMTTYPE=text/html:<div class="kvgmc6g5 cxmmr5t8 oygrvhab hcukyx3x c1et5uql" style="overflow-wrap: break-word\; margin: 0px\; font-family: &quot\;Segoe UI Historic&quot\;\, &quot\;Segoe UI&quot\;\, Helvetica\, Arial\, sans-serif\; color: rgb(5\, 5\, 5)\; font-size: 15px\;"><span style="font-size:14px\;"><span style="font-family:verdana\;">Our hometown shipping &amp\; technology center welcomes you to a cheery reception complete with libations at our first social of the year. Drop in at Zeppelin&#39\;s storefront anytime on Wednesday\, January 12 from 5:30-7:30p to socialize and connect with fellow Chamber members\, local business owners\, organizational leaders\, elected officials\, and friends.&nbsp\;RSVP requested.</span></span></div>\n\n<div class="o9v6fnle cxmmr5t8 oygrvhab hcukyx3x c1et5uql" style="overflow-wrap: break-word\; margin: 0.5em 0px 0px\; font-family: &quot\;Segoe UI Historic&quot\;\, &quot\;Segoe UI&quot\;\, Helvetica\, Arial\, sans-serif\; color: rgb(5\, 5\, 5)\; font-size: 15px\;"><span style="font-size:14px\;"><span style="font-family:verdana\;">The Chamber convenes Business After Hours\, a monthly event hosted at member businesses\, on the second Wednesday of each month as a complimentary member benefit. It&rsquo\;s designed to bring together local professionals looking to develop new business relationships. If you are not a member yet\, come check it out as a guest. Remember to bring lots of business cards to share\; this is a wonderful opportunity to meet new people.</span></span></div>\n
LOCATION:Zeppelin Shipping & Technology Center 625 W Railroad Ave\, Shelton
UID:e.71.60882
SEQUENCE:3
DTSTAMP:20260420T211938Z
URL:https://chamber.masonchamber.com/events/details/chamber-business-after-hours-60882
END:VEVENT

END:VCALENDAR
