BEGIN:VCALENDAR
VERSION:2.0
PRODID:-//ChamberMaster//Event Calendar 2.0//EN
METHOD:PUBLISH
X-PUBLISHED-TTL:P3D
REFRESH-INTERVAL:P3D
CALSCALE:GREGORIAN
BEGIN:VEVENT
DTSTART:20260514T003000Z
DTEND:20260514T020000Z
X-MICROSOFT-CDO-ALLDAYEVENT:FALSE
SUMMARY:Business After Hours with Peninsula Credit Union
DESCRIPTION:Join us for our May Business After Hours at Peninsula Credit Union! Guests will enjoy hors d'oeuvres from From Yola\, along with a variety of door prizes featuring baskets from local businesses\, including a "Get Ready for Summer" grand prize raffle basket.\n\n \n\nDrop by on May 13 from 5:30-7:00p to socialize and connect with fellow Chamber members\, local business owners\, organizational leaders\, elected officials\, and friends.
X-ALT-DESC;FMTTYPE=text/html:<p class="p1" style="margin: 0px\; font-style: normal\; font-variant: normal\; font-size-adjust: none\; font-language-override: normal\; font-kerning: auto\; font-optical-sizing: auto\; font-feature-settings: normal\; font-variation-settings: normal\; font-stretch: normal\; font-size: 13px\; line-height: normal\; font-family: &quot\;Helvetica Neue&quot\;\; color: rgb(0\, 0\, 0)\;">Join us for our May Business After Hours at Peninsula Credit Union! Guests will enjoy hors d&rsquo\;oeuvres from From Yola\, along with a variety of door prizes featuring baskets from local businesses\, including a &ldquo\;Get Ready for Summer&rdquo\; grand prize raffle basket.<br />\n&nbsp\;</p>\n\n<p class="p1" style="margin: 0px\; font-style: normal\; font-variant: normal\; font-size-adjust: none\; font-language-override: normal\; font-kerning: auto\; font-optical-sizing: auto\; font-feature-settings: normal\; font-variation-settings: normal\; font-stretch: normal\; font-size: 13px\; line-height: normal\; font-family: &quot\;Helvetica Neue&quot\;\; color: rgb(0\, 0\, 0)\;">Drop by on May 13 from 5:30-7:00p to socialize and connect with fellow Chamber members\, local business owners\, organizational leaders\, elected officials\, and friends.</p>\n
LOCATION:Peninsula Credit Union 521 W Railroad Ave Shelton\, WA 98584
UID:e.71.72385
SEQUENCE:3
DTSTAMP:20260424T010005Z
URL:https://chamber.masonchamber.com/events/details/business-after-hours-with-peninsula-credit-union-05-13-2026-72385
END:VEVENT

END:VCALENDAR
