BEGIN:VCALENDAR
VERSION:2.0
PRODID:-//ChamberMaster//Event Calendar 2.0//EN
METHOD:PUBLISH
X-PUBLISHED-TTL:P3D
REFRESH-INTERVAL:P3D
CALSCALE:GREGORIAN
BEGIN:VEVENT
DTSTART:20210506T230000Z
DTEND:20210507T003000Z
X-MICROSOFT-CDO-ALLDAYEVENT:FALSE
SUMMARY:Beer\, Brat & Shot - Salish Cliffs Golf Course
DESCRIPTION:9 Holes of golf\, brat\, a draft beer\, & a shot. \n\nSouvenir drinkware with your first round of the season. \n\n-Reservations are required 24 hours in advance\, please call 360.426.3673
X-ALT-DESC;FMTTYPE=text/html:9 Holes of golf\, brat\, a draft beer\, &amp\; a shot.&nbsp\;<br />\nSouvenir drinkware with your first round of the season.&nbsp\;<br />\n-Reservations are required 24 hours in advance\, please call 360.426.3673
LOCATION:Salish Cliff Golf Course
UID:e.71.60649
SEQUENCE:3
DTSTAMP:20260423T041308Z
URL:https://chamber.masonchamber.com/events/details/beer-brat-shot-salish-cliffs-golf-course-05-06-2021-60649
END:VEVENT

END:VCALENDAR
